BEGIN:VCALENDAR
VERSION:2.0
PRODID:icalendar-ruby
CALSCALE:GREGORIAN
METHOD:PUBLISH
BEGIN:VEVENT
DTSTAMP:20260420T232522Z
UID:5-1369613@dwellingrockchurch.org
DTSTART:20260913T150000Z
DTEND:20260913T160000Z
CLASS:PUBLIC
CREATED:20260420T183128
DESCRIPTION:Sunday Worship
LAST-MODIFIED:20260420T183128
LOCATION:
SUMMARY:Sunday Worship
URL;VALUE=URI:https://www.dwellingrockchurch.org/events/sunday-worship/2026
 -09-13
END:VEVENT
END:VCALENDAR
