BEGIN:VCALENDAR
VERSION:2.0
PRODID:icalendar-ruby
CALSCALE:GREGORIAN
METHOD:PUBLISH
BEGIN:VEVENT
DTSTAMP:20260423T083643Z
UID:5-1374541@dwellingrockchurch.org
DTSTART:20260920T150000Z
DTEND:20260920T160000Z
CLASS:PUBLIC
CREATED:20260422T225928
DESCRIPTION:Sunday Worship
LAST-MODIFIED:20260422T225928
LOCATION:
SUMMARY:Sunday Worship
URL;VALUE=URI:https://www.dwellingrockchurch.org/events/sunday-worship/2026
 -09-20
END:VEVENT
END:VCALENDAR
