BEGIN:VCALENDAR
VERSION:2.0
PRODID:icalendar-ruby
CALSCALE:GREGORIAN
METHOD:PUBLISH
BEGIN:VEVENT
DTSTAMP:20260423T132231Z
UID:5-1374923@dwellingrockchurch.org
DTSTART:20261011T150000Z
DTEND:20261011T160000Z
CLASS:PUBLIC
CREATED:20260423T082942
DESCRIPTION:Sunday Worship
LAST-MODIFIED:20260423T082942
LOCATION:
SUMMARY:Sunday Worship
URL;VALUE=URI:https://www.dwellingrockchurch.org/events/sunday-worship/2026
 -10-11
END:VEVENT
END:VCALENDAR
