BEGIN:VCALENDAR
VERSION:2.0
PRODID:icalendar-ruby
CALSCALE:GREGORIAN
METHOD:PUBLISH
BEGIN:VEVENT
DTSTAMP:20260423T163134Z
UID:5-1375304@dwellingrockchurch.org
DTSTART:20261025T150000Z
DTEND:20261025T160000Z
CLASS:PUBLIC
CREATED:20260423T112212
DESCRIPTION:Sunday Worship
LAST-MODIFIED:20260423T112212
LOCATION:
SUMMARY:Sunday Worship
URL;VALUE=URI:https://www.dwellingrockchurch.org/events/sunday-worship/2026
 -10-25
END:VEVENT
END:VCALENDAR
