BEGIN:VCALENDAR
VERSION:2.0
PRODID:icalendar-ruby
CALSCALE:GREGORIAN
METHOD:PUBLISH
BEGIN:VEVENT
DTSTAMP:20260423T182244Z
UID:5-1375684@dwellingrockchurch.org
DTSTART:20261101T160000Z
DTEND:20261101T170000Z
CLASS:PUBLIC
CREATED:20260423T141843
DESCRIPTION:Sunday Worship
LAST-MODIFIED:20260423T141843
LOCATION:
SUMMARY:Sunday Worship
URL;VALUE=URI:https://www.dwellingrockchurch.org/events/sunday-worship/2026
 -11-01
END:VEVENT
END:VCALENDAR
